BEGIN:VCALENDAR
VERSION:2.0
PRODID:-//Orleans Technical College - ECPv6.15.20//NONSGML v1.0//EN
CALSCALE:GREGORIAN
METHOD:PUBLISH
X-WR-CALNAME:Orleans Technical College
X-ORIGINAL-URL:https://orleanstech.edu
X-WR-CALDESC:Events for Orleans Technical College
REFRESH-INTERVAL;VALUE=DURATION:PT1H
X-Robots-Tag:noindex
X-PUBLISHED-TTL:PT1H
BEGIN:VTIMEZONE
TZID:America/New_York
BEGIN:DAYLIGHT
TZOFFSETFROM:-0500
TZOFFSETTO:-0400
TZNAME:EDT
DTSTART:20230312T070000
END:DAYLIGHT
BEGIN:STANDARD
TZOFFSETFROM:-0400
TZOFFSETTO:-0500
TZNAME:EST
DTSTART:20231105T060000
END:STANDARD
BEGIN:DAYLIGHT
TZOFFSETFROM:-0500
TZOFFSETTO:-0400
TZNAME:EDT
DTSTART:20240310T070000
END:DAYLIGHT
BEGIN:STANDARD
TZOFFSETFROM:-0400
TZOFFSETTO:-0500
TZNAME:EST
DTSTART:20241103T060000
END:STANDARD
BEGIN:DAYLIGHT
TZOFFSETFROM:-0500
TZOFFSETTO:-0400
TZNAME:EDT
DTSTART:20250309T070000
END:DAYLIGHT
BEGIN:STANDARD
TZOFFSETFROM:-0400
TZOFFSETTO:-0500
TZNAME:EST
DTSTART:20251102T060000
END:STANDARD
END:VTIMEZONE
BEGIN:VEVENT
DTSTART;VALUE=DATE:20240205
DTEND;VALUE=DATE:20240206
DTSTAMP:20260419T204602
CREATED:20240116T195715Z
LAST-MODIFIED:20240116T195715Z
UID:10002087-1707091200-1707177599@orleanstech.edu
SUMMARY:Clinical Medical Assistant Program Begins February 5\, 2024
DESCRIPTION:Train to Become a Clinical Medical Assistant\nLearn to Earn. Learn by Doing. Learn a Trade!\nOrleans Technical College’s 25-week program and 5 week externship will train you for a healthcare career. Our program combines classroom education\, hands-on practical assignments\, and an externship with employer partners. Dedicated staff help every step of the way\, from application and financial aid eligibility to successful program completion and certification – plus employer connection to jobs. \nFinancial aid is available for those who qualify. A high school diploma or equivalent is required to apply. \nEarn these credentials and begin your new career\n\nCertified Medical Assistant-National Healthcare Association (NHA)\nCertified Phlebotomy Technician-National Healthcare Association (NHA)\nCertified EKG Technician-National Healthcare Association (NHA)\nCPR/AED Certified for Healthcare Workers (American Heart Association)\n\nUpcoming Classes\n14-month evening program starts 2/5/24 \nEmployment Opportunities\n \nClinical Medical Assistants work in a variety of health settings\, including: doctor’s offices\, clinics\, and hospitals. Orleans has built a network of employer partners for our students to connect with after they complete their training. \nStudent Right to Know\nTitle I\, Section 103 of The “Student Right‐to‐Know and Campus Security Act” (P.L. 101‐542) requires institutions eligible for Title IV funding to calculate graduation rates of certificate‐ or degree‐seeking\, first‐time\, full‐time students entering that institution\, and to disclose these rates to all students and prospective students.
URL:https://orleanstech.edu/event/clinical-medical-assistant-program-begins-february-5-2024/
LOCATION:PA
CATEGORIES:Class Starts
END:VEVENT
END:VCALENDAR