BEGIN:VCALENDAR
VERSION:2.0
PRODID:-//Orleans Technical College - ECPv6.15.20//NONSGML v1.0//EN
CALSCALE:GREGORIAN
METHOD:PUBLISH
X-ORIGINAL-URL:https://orleanstech.edu
X-WR-CALDESC:Events for Orleans Technical College
REFRESH-INTERVAL;VALUE=DURATION:PT1H
X-Robots-Tag:noindex
X-PUBLISHED-TTL:PT1H
BEGIN:VTIMEZONE
TZID:America/New_York
BEGIN:DAYLIGHT
TZOFFSETFROM:-0500
TZOFFSETTO:-0400
TZNAME:EDT
DTSTART:20230312T070000
END:DAYLIGHT
BEGIN:STANDARD
TZOFFSETFROM:-0400
TZOFFSETTO:-0500
TZNAME:EST
DTSTART:20231105T060000
END:STANDARD
BEGIN:DAYLIGHT
TZOFFSETFROM:-0500
TZOFFSETTO:-0400
TZNAME:EDT
DTSTART:20240310T070000
END:DAYLIGHT
BEGIN:STANDARD
TZOFFSETFROM:-0400
TZOFFSETTO:-0500
TZNAME:EST
DTSTART:20241103T060000
END:STANDARD
BEGIN:DAYLIGHT
TZOFFSETFROM:-0500
TZOFFSETTO:-0400
TZNAME:EDT
DTSTART:20250309T070000
END:DAYLIGHT
BEGIN:STANDARD
TZOFFSETFROM:-0400
TZOFFSETTO:-0500
TZNAME:EST
DTSTART:20251102T060000
END:STANDARD
END:VTIMEZONE
BEGIN:VEVENT
DTSTART;TZID=America/New_York:20240328T120000
DTEND;TZID=America/New_York:20240328T140000
DTSTAMP:20260425T080129
CREATED:20240308T155545Z
LAST-MODIFIED:20240313T150711Z
UID:10002088-1711627200-1711634400@orleanstech.edu
SUMMARY:Community Meet & Greet hosted by Orleans Technical College!
DESCRIPTION:Are you interested in learning more about Orleans Technical College’s building trades and healthcare programs? Do you want to tour our state-of-the-art campus and facilities? \nJoin us for a special Community Meet and Greet event! \nDuring this interactive event\, you’ll have the opportunity to tour our state-of-the-art campus and facilities and learn about our various building trades and healthcare programs. \nGuests will also meet our dedicated faculty and staff\, who are committed to helping our students succeed in their educational journey through support services including: \n\nFinancial aid assistance\nCareer counseling\nTutoring services\nJob placement resources\nOne-on-one instruction\n\nWe look forward to welcoming you to our campus and showcasing the exciting opportunities awaiting you at Orleans Technical College! \nDate:  Thursday\, March 28\, 2024 \nTime:  12 pm – 2 pm (lunch will be provided) \nLocation: Orleans Technical College 2770 Red Lion Road\, Philadelphia\, PA  19114 \nREGISTER NOW \n  \nOrleans Technical College is a nationally accredited post-secondary career & technical institution. \n 
URL:https://orleanstech.edu/event/community-meet-greet-hosted-by-orleans-technical-college/
LOCATION:PA
CATEGORIES:Community Events
ATTACH;FMTTYPE=image/png:https://orleanstech.edu/wp-content/uploads/2024/03/Meet-Greet-Image.png
END:VEVENT
END:VCALENDAR