BEGIN:VCALENDAR
VERSION:2.0
PRODID:-//Orleans Technical College - ECPv6.15.20//NONSGML v1.0//EN
CALSCALE:GREGORIAN
METHOD:PUBLISH
X-WR-CALNAME:Orleans Technical College
X-ORIGINAL-URL:https://orleanstech.edu
X-WR-CALDESC:Events for Orleans Technical College
REFRESH-INTERVAL;VALUE=DURATION:PT1H
X-Robots-Tag:noindex
X-PUBLISHED-TTL:PT1H
BEGIN:VTIMEZONE
TZID:America/New_York
BEGIN:DAYLIGHT
TZOFFSETFROM:-0500
TZOFFSETTO:-0400
TZNAME:EDT
DTSTART:20220313T070000
END:DAYLIGHT
BEGIN:STANDARD
TZOFFSETFROM:-0400
TZOFFSETTO:-0500
TZNAME:EST
DTSTART:20221106T060000
END:STANDARD
BEGIN:DAYLIGHT
TZOFFSETFROM:-0500
TZOFFSETTO:-0400
TZNAME:EDT
DTSTART:20230312T070000
END:DAYLIGHT
BEGIN:STANDARD
TZOFFSETFROM:-0400
TZOFFSETTO:-0500
TZNAME:EST
DTSTART:20231105T060000
END:STANDARD
BEGIN:DAYLIGHT
TZOFFSETFROM:-0500
TZOFFSETTO:-0400
TZNAME:EDT
DTSTART:20240310T070000
END:DAYLIGHT
BEGIN:STANDARD
TZOFFSETFROM:-0400
TZOFFSETTO:-0500
TZNAME:EST
DTSTART:20241103T060000
END:STANDARD
END:VTIMEZONE
BEGIN:VEVENT
DTSTART;TZID=America/New_York:20230211T100000
DTEND;TZID=America/New_York:20230211T120000
DTSTAMP:20260420T092931
CREATED:20230117T190957Z
LAST-MODIFIED:20230117T193002Z
UID:10001963-1676109600-1676116800@orleanstech.edu
SUMMARY:Open House 2-11-23
DESCRIPTION:February is Career & Technical Education (CTE) Month! \nWhat are the benefits of career and technical education? Find out during our Open House. Stop in to learn how our 6-month\, hands-on training programs can prepare you to enter a new career in the building and construction trades field. Tour our trades workshops\, meet one of our industry-experienced instructors\, and discover why technical training is a great avenue for so many adults who want to quickly learn a trade\, gain skills\, and get right to work. Staff will also be available to answer your questions about enrollment\, financial aid\, and Orleans Tech’s one-on-one job search assistance for graduates. \nWinter & spring classes are enrolling now. \n  \nRSVP for This Event\nInterested in attending? Be sure to reserve your spot by registering today. Bring a friend! \n\n\n                \n                        Your Name*Email Address*\n                            \n                        Phone*Program of Interest*AC\, Refrigeration & HeatingBuilding MaintenanceCarpentryPlumbing & HeatingResidential & Commercial ElectricityBy submitting this form\, I give Orleans Technical College and JEVS Human Services consent to contact me using the above phone number and email address\, and to use automated technology to call and text at the phone number above\, including the wireless number if provided. Message and data rates apply\, and message frequency may vary. I can reply STOP to opt-out or reply HELP for support. More information about JEVS Privacy Policy is accessible here: Privacy Policies CAPTCHA
URL:https://orleanstech.edu/event/open-house-2-11-23/
LOCATION:Orleans Technical College\, 2770 Red Lion Road\, Philadelphia\, PA\, 19114\, United States
CATEGORIES:Building Trades
ATTACH;FMTTYPE=image/jpeg:https://orleanstech.edu/wp-content/uploads/2016/04/DSC0845-cropped3.jpg
GEO:40.0904729;-75.0115505
X-APPLE-STRUCTURED-LOCATION;VALUE=URI;X-ADDRESS=Orleans Technical College 2770 Red Lion Road Philadelphia PA 19114 United States;X-APPLE-RADIUS=500;X-TITLE=2770 Red Lion Road:geo:-75.0115505,40.0904729
END:VEVENT
BEGIN:VEVENT
DTSTART;TZID=America/New_York:20230227T074500
DTEND;TZID=America/New_York:20230227T144500
DTSTAMP:20260420T092931
CREATED:20210330T201940Z
LAST-MODIFIED:20220808T230628Z
UID:10001941-1677483900-1677509100@orleanstech.edu
SUMMARY:Start of 6-Month Residential & Commercial Electricity Class
DESCRIPTION:Now’s your time! Train for a career beyond the ordinary.\n> Schedule a tour with our Admissions Team and get more info about this training program!
URL:https://orleanstech.edu/event/start-of-6-month-residential-commercial-electricity-class-2-2023/
CATEGORIES:Building Trades
ATTACH;FMTTYPE=image/png:https://orleanstech.edu/wp-content/uploads/2020/07/Electricity.png
END:VEVENT
END:VCALENDAR