BEGIN:VCALENDAR
VERSION:2.0
PRODID:-//Orleans Technical College - ECPv6.15.20//NONSGML v1.0//EN
CALSCALE:GREGORIAN
METHOD:PUBLISH
X-ORIGINAL-URL:https://orleanstech.edu
X-WR-CALDESC:Events for Orleans Technical College
REFRESH-INTERVAL;VALUE=DURATION:PT1H
X-Robots-Tag:noindex
X-PUBLISHED-TTL:PT1H
BEGIN:VTIMEZONE
TZID:America/New_York
BEGIN:DAYLIGHT
TZOFFSETFROM:-0500
TZOFFSETTO:-0400
TZNAME:EDT
DTSTART:20220313T070000
END:DAYLIGHT
BEGIN:STANDARD
TZOFFSETFROM:-0400
TZOFFSETTO:-0500
TZNAME:EST
DTSTART:20221106T060000
END:STANDARD
BEGIN:DAYLIGHT
TZOFFSETFROM:-0500
TZOFFSETTO:-0400
TZNAME:EDT
DTSTART:20230312T070000
END:DAYLIGHT
BEGIN:STANDARD
TZOFFSETFROM:-0400
TZOFFSETTO:-0500
TZNAME:EST
DTSTART:20231105T060000
END:STANDARD
BEGIN:DAYLIGHT
TZOFFSETFROM:-0500
TZOFFSETTO:-0400
TZNAME:EDT
DTSTART:20240310T070000
END:DAYLIGHT
BEGIN:STANDARD
TZOFFSETFROM:-0400
TZOFFSETTO:-0500
TZNAME:EST
DTSTART:20241103T060000
END:STANDARD
END:VTIMEZONE
BEGIN:VEVENT
DTSTART;VALUE=DATE:20231109
DTEND;VALUE=DATE:20231110
DTSTAMP:20260425T182323
CREATED:20230808T182406Z
LAST-MODIFIED:20231101T152924Z
UID:10002046-1699488000-1699574399@orleanstech.edu
SUMMARY:Carpentry Program Begins November 9\, 2023
DESCRIPTION:Hands-On Training for a Career as a Carpenter\nLearn to Earn. Learn by Doing. Learn a Trade! At Orleans Technical College\, you can earn your Trades Diploma in just 6 months and take the first step toward an exciting career in Carpentry. Our career training course is hands-on so that you gain the skills that employers are looking for! \nYou’ll learn construction\, installation\, and renovation skills for an array of opportunities—inside and out—working with wood and other materials. Students experience building a house to scale\, staircase\, and full-size deck\, as well as tackle framing\, drywall\, rough and fine finishing\, siding\, shingle roofing\, and door and window installation. \nFinancial aid is available for those who qualify. A high school diploma or equivalent is required to apply. A driver’s license is recommended to travel for jobs post-graduation. \nProgram Objective\nOrleans Tech’s Carpentry students learn hands-on new construction skills. They build a house to scale in order to learn framing\, drywall\, rough and fine finishing\, siding\, shingled roofing\, and door and window installation. Students construct a full size deck and staircase. Training includes blueprint reading\, safety practices\, and trade mathematics. \nUpcoming Classes\n8-month day…starts 11/9/23  Apply Now \nEmployment Opportunities\nGraduates are prepared for entry-level employment as carpenters\, carpentry assistants\, carpentry apprentices\, maintenance carpenters\, finish carpenters\, house repairers\, door installers\, cabinet and trim installers\, lay-out workers\, framers\, assemblers\, and woodworkers. \nCareer Outlook\nCarpentry SOC: 47-2031.00 CIP: 46.0201 \nAccording to the U.S. Department of Labor\, employment of carpenters is projected to grow 8% from 2016 to 2026.\nSource: Bureau of Labor Statistics\, “Occupational Outlook Handbook\,” 2019 Edition. \nIndustry Certification\nStudents in this program are eligible to receive industry-recognized certification from NOCTI upon successful completion of certification exams. Students will be eligible to earn the OSHA-10 safety certification\, which is the construction industry recognized credential. https://www.careersafeonline.com/ \nStudent Right to Know\nTitle I\, Section 103 of The “Student Right‐to‐Know and Campus Security Act” (P.L. 101‐542) requires institutions eligible for Title IV funding to calculate graduation rates of certificate‐ or degree‐seeking\, first‐time\, full‐time students entering that institution\, and to disclose these rates to all students and prospective students. \n> Click here for the Student Right to Know report
URL:https://orleanstech.edu/event/carpentry-programs-begins-november-9-2023/
CATEGORIES:Class Starts
END:VEVENT
END:VCALENDAR