BEGIN:VCALENDAR
VERSION:2.0
PRODID:-//Orleans Technical College - ECPv6.15.20//NONSGML v1.0//EN
CALSCALE:GREGORIAN
METHOD:PUBLISH
X-WR-CALNAME:Orleans Technical College
X-ORIGINAL-URL:https://orleanstech.edu
X-WR-CALDESC:Events for Orleans Technical College
REFRESH-INTERVAL;VALUE=DURATION:PT1H
X-Robots-Tag:noindex
X-PUBLISHED-TTL:PT1H
BEGIN:VTIMEZONE
TZID:UTC
BEGIN:STANDARD
TZOFFSETFROM:+0000
TZOFFSETTO:+0000
TZNAME:UTC
DTSTART:20160101T000000
END:STANDARD
END:VTIMEZONE
BEGIN:VEVENT
DTSTART;TZID=UTC:20171003T090000
DTEND;TZID=UTC:20171003T170000
DTSTAMP:20260423T072433
CREATED:20171004T000012Z
LAST-MODIFIED:20171004T000012Z
UID:10001803-1507021200-1507050000@orleanstech.edu
SUMMARY:Try a Trade Tuesday 10-3-17
DESCRIPTION:Working\, but want better job prospects or even new skills to begin a career? Join us on Try a Trade Tuesday to see if job training in the building trades this Fall is the right fit for you and your schedule. \nJust give us 30 minutes and you can:\n– tour our hands-on trade shops\n– meet our instructors and ask questions\n– get information about enrollment\, financial aid and job search assistance. \nOur classes at Orleans Tech are small so that you can get the one-on-one attention to succeed in your training and preparation for a new career. \nNow is your time…don’t delay! Orleans is currently enrolling for Fall classes.
URL:https://orleanstech.edu/event/try-a-trade-tuesday-10-3-17/
LOCATION:PA
CATEGORIES:Building Trades
ATTACH;FMTTYPE=image/jpeg:https://orleanstech.edu/wp-content/uploads/2016/09/measuring-tape-926716_1920.jpg
END:VEVENT
BEGIN:VEVENT
DTSTART;TZID=UTC:20171007T100000
DTEND;TZID=UTC:20171007T130000
DTSTAMP:20260423T072433
CREATED:20171009T223430Z
LAST-MODIFIED:20171009T223430Z
UID:10001804-1507370400-1507381200@orleanstech.edu
SUMMARY:Open House 10-7-17
DESCRIPTION:Stop by Orleans Tech during our Open House to get info about starting a new chapter in your life this Fall! Tour our trades workshops to see how we can provide YOU with hands-on skills that employers are looking for (in just 6 months!) \nPlus\, learn more about our new health care training program starting October 16th! \nStaff from our Admissions\, Financial Services\, and Career Services departments will also be available to answer your questions about enrollment\, financial aid\, and Orleans Tech’s one-on-one job search assistance for graduates.
URL:https://orleanstech.edu/event/open-house-10-7-17/
LOCATION:PA
CATEGORIES:General Orleans
ATTACH;FMTTYPE=image/jpeg:https://orleanstech.edu/wp-content/uploads/2016/04/DSC0845-cropped3.jpg
END:VEVENT
END:VCALENDAR