BEGIN:VCALENDAR
VERSION:2.0
PRODID:-//Orleans Technical College - ECPv6.15.20//NONSGML v1.0//EN
CALSCALE:GREGORIAN
METHOD:PUBLISH
X-ORIGINAL-URL:https://orleanstech.edu
X-WR-CALDESC:Events for Orleans Technical College
REFRESH-INTERVAL;VALUE=DURATION:PT1H
X-Robots-Tag:noindex
X-PUBLISHED-TTL:PT1H
BEGIN:VTIMEZONE
TZID:America/New_York
BEGIN:DAYLIGHT
TZOFFSETFROM:-0500
TZOFFSETTO:-0400
TZNAME:EDT
DTSTART:20220313T070000
END:DAYLIGHT
BEGIN:STANDARD
TZOFFSETFROM:-0400
TZOFFSETTO:-0500
TZNAME:EST
DTSTART:20221106T060000
END:STANDARD
BEGIN:DAYLIGHT
TZOFFSETFROM:-0500
TZOFFSETTO:-0400
TZNAME:EDT
DTSTART:20230312T070000
END:DAYLIGHT
BEGIN:STANDARD
TZOFFSETFROM:-0400
TZOFFSETTO:-0500
TZNAME:EST
DTSTART:20231105T060000
END:STANDARD
BEGIN:DAYLIGHT
TZOFFSETFROM:-0500
TZOFFSETTO:-0400
TZNAME:EDT
DTSTART:20240310T070000
END:DAYLIGHT
BEGIN:STANDARD
TZOFFSETFROM:-0400
TZOFFSETTO:-0500
TZNAME:EST
DTSTART:20241103T060000
END:STANDARD
END:VTIMEZONE
BEGIN:VEVENT
DTSTART;VALUE=DATE:20231219
DTEND;VALUE=DATE:20231220
DTSTAMP:20260423T143734
CREATED:20230808T180008Z
LAST-MODIFIED:20231214T161409Z
UID:10002033-1702944000-1703030399@orleanstech.edu
SUMMARY:Residential and Commercial Electricity Program Begins December 19\, 2023
DESCRIPTION:Hands-On Training for a Career as an Electrician\nLearn to Earn. Learn by Doing. Learn a Trade! At Orleans Technical College\, you can earn your Trades Diploma in just 6 or 13 months and take the first step toward an exciting career in Residential and Commercial Electricity. Our career training course is hands-on so that you gain the skills that employers are looking for! \nYou can enter the field prepared to keep the power going and handle service wiring from the ground up in residential\, commercial\, and public establishments. Orleans graduates’ employment opportunities range from electrical installers and troubleshooters\, to maintenance and electrical assistants. \nFinancial aid is available for those who qualify. A high school diploma or equivalent is required to apply. A driver’s license is recommended to travel for jobs post-graduation. \nProgram Objective\nOrleans Tech’s Residential and Commercial Electricity student will be able to design\, install\, troubleshoot\, replace\, upgrade\, and maintain electrical equipment in residential and commercial electrical systems per requirements and guidelines mandated by the National Electrical Code. Students are instructed in the identification\, care\, and proper use of electrical tools and equipment. They learn mathematics for use in the electrical trade. They also study basic theory\, electrical control systems\, and single-phase and multi-phase electrical motors. Power supplies and power distribution for commercial establishments are taught. \nUpcoming Classes\n8-month day…starts 12/19/23  Apply Now \n8-month day…starts 4/18/24  Apply Now \n14-month evening…starts 6/24/24  Apply Now \nEmployment Opportunities\nGraduates of this course are prepared for entry-level employment as electrical installers and troubleshooters\, and as maintenance and electrical assistants in residential\, commercial\, and public establishments. \nCareer Outlook\nResidential & Commercial Electricity SOC: 47-2111.00 CIP: 46.0302 \nAccording to the U.S. Department of Labor\, employment of electricians is projected to grow 8 percent from 2019 to 2029\, faster than the average for all occupations.\nSource: Bureau of Labor Statistics\, “Occupational Outlook Handbook\,” 2020 Edition. \nIndustry Certification\nStudents in this program are eligible to receive industry-recognized certification from NOCTI upon successful completion of certification exams. Students will be eligible to earn the OSHA-10 safety certification\, which is the construction industry recognized credential. https://www.careersafeonline.com/ \nStudent Right to Know\nTitle I\, Section 103 of The “Student Right‐to‐Know and Campus Security Act” (P.L. 101‐542) requires institutions eligible for Title IV funding to calculate graduation rates of certificate‐ or degree‐seeking\, first‐time\, full‐time students entering that institution\, and to disclose these rates to all students and prospective students. \n> Click here for the Student Right to Know report
URL:https://orleanstech.edu/event/residential-and-commercial-electricity-program-begins-december-19-2023/
LOCATION:PA
CATEGORIES:Class Starts
ATTACH;FMTTYPE=image/jpeg:https://orleanstech.edu/wp-content/uploads/2022/08/OTC-Electricity-1020x615-1.jpg
END:VEVENT
BEGIN:VEVENT
DTSTART;TZID=America/New_York:20231220T090000
DTEND;TZID=America/New_York:20231220T160000
DTSTAMP:20260423T143734
CREATED:20231019T163306Z
LAST-MODIFIED:20231019T163306Z
UID:10002059-1703062800-1703088000@orleanstech.edu
SUMMARY:Walk-In Wednesday
DESCRIPTION:Stop by Orleans Technical College for Walk-In Wednesday! See how you can begin your training in the exciting and in-demand building trades or healthcare industry. You’ll be able to experience the following all in one trip! \n\ntour our school building\ntake the entrance test\nbegin the enrollment process\n\nOur 8-month and 14-month career training programs are for those who want to use their hands (and minds!) to build\, create\, renovate and repair. We provide a practical education to get you to that next stage in your life. And\, we assist with your job search\, matching you with our employer partners or apprenticeship opportunities in the skilled trades fields. \nRSVP for This Event\nStop by on Wednesday or make an appointment with our team! \n\n\n                \n                        Preferred Date (Mon-Fri Only)*\n                            \n                            MM slash DD slash YYYY\n                        \n                        Preferred Time*Please Select9am10am11am12 noon1pm2pm3pm4pmProgram of Interest*Choose a ProgramPractical Nursing (PN)Clinical Medical AssistantAssociate Degree in Specialized Business (ASB) - Construction ManagementA/C\, Refrigeration & HeatingBuilding MaintenanceCarpentryPlumbing & HeatingResidential & Commercial ElectricityFirst Name*Last Name*Best Way to Contact You:*\n			\n				\n				Email\n			\n			\n				\n				Phone / Text\n			Email Address*\n                            \n                        Mobile Number*This field is hidden when viewing the formZIP Code*    \n                    \n                        \n                                    \n                                    ZIP Code\n                                \n                    \n                What questions can we answer now?This field is hidden when viewing the formAgree to Terms\n								\n								By pressing the 'Submit' button\, I give Orleans Technical College consent to contact me using the above phone number and email address; and to use automated technology to call and text at the phone number above\, including the wireless number if provided. Please note that you are not required to provide this consent to apply or enroll in one of our programs.\n							By submitting this form\, I give Orleans Technical College and JEVS Human Services consent to contact me using the above phone number and email address\, and to use automated technology to call and text at the phone number above\, including the wireless number if provided. Message and data rates apply\, and message frequency may vary. I can reply STOP to opt-out or reply HELP for support. More information about JEVS Privacy Policy is accessible here: Privacy Policies CAPTCHA
URL:https://orleanstech.edu/event/walk-in-wednesday/2023-12-20/
LOCATION:PA
END:VEVENT
END:VCALENDAR